BEGIN:VCALENDAR
VERSION:2.0
PRODID:-//Missouri Sheriffs&#039; Association - ECPv6.15.20//NONSGML v1.0//EN
CALSCALE:GREGORIAN
METHOD:PUBLISH
X-ORIGINAL-URL:https://mosheriffs.com
X-WR-CALDESC:Events for Missouri Sheriffs&#039; Association
REFRESH-INTERVAL;VALUE=DURATION:PT1H
X-Robots-Tag:noindex
X-PUBLISHED-TTL:PT1H
BEGIN:VTIMEZONE
TZID:America/Chicago
BEGIN:DAYLIGHT
TZOFFSETFROM:-0600
TZOFFSETTO:-0500
TZNAME:CDT
DTSTART:20240310T080000
END:DAYLIGHT
BEGIN:STANDARD
TZOFFSETFROM:-0500
TZOFFSETTO:-0600
TZNAME:CST
DTSTART:20241103T070000
END:STANDARD
BEGIN:DAYLIGHT
TZOFFSETFROM:-0600
TZOFFSETTO:-0500
TZNAME:CDT
DTSTART:20250309T080000
END:DAYLIGHT
BEGIN:STANDARD
TZOFFSETFROM:-0500
TZOFFSETTO:-0600
TZNAME:CST
DTSTART:20251102T070000
END:STANDARD
BEGIN:DAYLIGHT
TZOFFSETFROM:-0600
TZOFFSETTO:-0500
TZNAME:CDT
DTSTART:20260308T080000
END:DAYLIGHT
BEGIN:STANDARD
TZOFFSETFROM:-0500
TZOFFSETTO:-0600
TZNAME:CST
DTSTART:20261101T070000
END:STANDARD
END:VTIMEZONE
BEGIN:VEVENT
DTSTART;TZID=America/Chicago:20250101T080000
DTEND;TZID=America/Chicago:20251231T233000
DTSTAMP:20260419T185404
CREATED:20250110T144506Z
LAST-MODIFIED:20251203T191510Z
UID:10000189-1735718400-1767223800@mosheriffs.com
SUMMARY:MSA Online Learning Management System - Individual Subscription
DESCRIPTION:The Missouri Sheriffs’ Association (MSA) is now offering an individual subscription service for our Online Learning Management System (LMS).  The MSA LMS Individual Subscription guarantees the subscriber the ability to complete all of their POST required annual CLEE training with the exception of the 2-hour Skill Development/Firearms training requirement.  There are currently over 100 courses available to choose from\, which would cost over $500 to pay for individually. \nAnnual Subscription\nJanuary 1\, 2025 to December 31\, 2025 \nSubscription Fee:\nCost: $75.00 for calendar year\nPayable to: Missouri Sheriffs’ Association \nPre-Requisites: \nIf you do not already have an MSA LMS online training account set up\, please go to https://lms.mosheriffs.com to register and set up an account. Make sure you use the same email address you used to set up your MSA LMS online training account when you sign up for an MSA LMS Individual Subscription.  Click HERE for step-by-step instructions on how to register for an MSA LMS account. \nUsers who are currently employed by a Law Enforcement Agency are encouraged to contact their agency to determine if the agency has already entered into a training contract with MSA. If your agency has a training contract with MSA\, DO NOT PURCHASE THE INDIVIDUAL SUBSCRIPTION\, please contact your MSA LMS Agency Administrator to add your MSA LMS online training account to the agency user list. \nMORE INFO\nSam Boyd @ 660-473-6013 or sam@mosheriffs.com \n*NEW LMS REGITRATION FORM BELOW*\nCLICK HERE TO PURCHASE Your Individual Subscription:\nOr\nScan or Click this QR Code \n \nIt may take up to 48 hours\, excluding weekends and holidays\, to activate your subscription once your registration and payment are received.
URL:https://mosheriffs.com/event/msa-online-learning-management-system-individual-subscription/
LOCATION:Missouri Sheriffs’ Association\, 6605 Business 50 West\, Jefferson City\, MO\, 65101\, United States
CATEGORIES:Management,Training
ATTACH;FMTTYPE=image/jpeg:https://mosheriffs.com/wp-content/uploads/2022/11/MSA-Header-Online-Learning-Management.jpg
ORGANIZER;CN="Jeanne Merritt":MAILTO:jeanne@mosheriffs.com
END:VEVENT
BEGIN:VEVENT
DTSTART;TZID=America/Chicago:20250215T080000
DTEND;TZID=America/Chicago:20250222T170000
DTSTAMP:20260419T185404
CREATED:20250119T151123Z
LAST-MODIFIED:20250203T022054Z
UID:10000191-1739606400-1740243600@mosheriffs.com
SUMMARY:48-Hour Jail Officer Academy\, Cape Girardeau County
DESCRIPTION:POST# 24790 \nFebruary 15\, 22\, and March 1\, 8\, 15\, 22\, 2025\n8:00 a.m. – 5:00 p.m. \nThis 48-hour course is designed to prepare the participant for working   in a jail or detention center. It focuses on developing knowledge and skills to better equip an individual for maintaining the safety and security of a facility\, as they ensure the incarcerated individuals’ needs are met in a humane and legal manner. It is a MUST for individuals just beginning a career working in a jail and a friendly refresher for those who have been working in a jail for some time. \nTOPICS INCLUDE\n• Working in Corrections\n• Health & Safety Issues\n• Legal Issues\n• Intake\, Booking & Release\n• Daily Operations of a Jail Officer\n• Controlling Resistive & Manipulative Behavior\n• Use-of-Force in Jails \nPREREQUISITES\nApplicants must possess the following competencies:\n• Adaptability\n• Conscientiousness\n• Judgment/ Problem Solving\n• Critical Thinking\n• Learning-Memory-Recall\n• Organization Skills \nDRESS CODE & SUPPLIES\n• Attendees are expected to dress in their agency uniform or in business casual attire.\n• Attendees must bring a pen or pencil and notetaking material; and a laptop\, tablet\, or smart phone capable of accessing the\ninternet. \nREQUIREMENTS FOR SUCCESSFUL COMPLETION\nA certificate of academy completion is awarded to all attendees who have a 100% attendance rating and pass a comprehensive electronic exam with a minimum score of 80% correct. \nPOST CLEE CREDITS: 46\n• 5 Hours Interpersonal\n• 1 Hour Implicit Bias\n• 4 Hours De-Escalation\n• 14 Hours Legal Studies\n• 22 Hours Technical Studies \nNote: Classes may be cancelled with less than 8 registrations. \nRegistration deadline: February 10\, 2025 \n  \n*No refund for class if not attended. 50% refund if canceled 48 hours before class starts. \n  \nDOWNLOAD PDF
URL:https://mosheriffs.com/event/48-hour-jail-officer-academy-cape-girardeau-2/
LOCATION:Cape Girardeau County Sheriff’s Office\, 216 North Missouri St.\, Jackson\, 63755\, United States
CATEGORIES:Jail,Training
ATTACH;FMTTYPE=image/jpeg:https://mosheriffs.com/wp-content/uploads/2023/01/MSA-Header-48-Hour-Jail-Officer-Academy.jpg
ORGANIZER;CN="Jeanne Merritt":MAILTO:jeanne@mosheriffs.com
END:VEVENT
END:VCALENDAR