BEGIN:VCALENDAR
VERSION:2.0
PRODID:-//Missouri Sheriffs&#039; Association - ECPv6.15.20//NONSGML v1.0//EN
CALSCALE:GREGORIAN
METHOD:PUBLISH
X-ORIGINAL-URL:https://mosheriffs.com
X-WR-CALDESC:Events for Missouri Sheriffs&#039; Association
REFRESH-INTERVAL;VALUE=DURATION:PT1H
X-Robots-Tag:noindex
X-PUBLISHED-TTL:PT1H
BEGIN:VTIMEZONE
TZID:America/Chicago
BEGIN:DAYLIGHT
TZOFFSETFROM:-0600
TZOFFSETTO:-0500
TZNAME:CDT
DTSTART:20230312T080000
END:DAYLIGHT
BEGIN:STANDARD
TZOFFSETFROM:-0500
TZOFFSETTO:-0600
TZNAME:CST
DTSTART:20231105T070000
END:STANDARD
BEGIN:DAYLIGHT
TZOFFSETFROM:-0600
TZOFFSETTO:-0500
TZNAME:CDT
DTSTART:20240310T080000
END:DAYLIGHT
BEGIN:STANDARD
TZOFFSETFROM:-0500
TZOFFSETTO:-0600
TZNAME:CST
DTSTART:20241103T070000
END:STANDARD
BEGIN:DAYLIGHT
TZOFFSETFROM:-0600
TZOFFSETTO:-0500
TZNAME:CDT
DTSTART:20250309T080000
END:DAYLIGHT
BEGIN:STANDARD
TZOFFSETFROM:-0500
TZOFFSETTO:-0600
TZNAME:CST
DTSTART:20251102T070000
END:STANDARD
END:VTIMEZONE
BEGIN:VEVENT
DTSTART;TZID=America/Chicago:20240404T080000
DTEND;TZID=America/Chicago:20240404T100000
DTSTAMP:20260420T223938
CREATED:20231117T081323Z
LAST-MODIFIED:20231117T081323Z
UID:10000119-1712217600-1712224800@mosheriffs.com
SUMMARY:WEBINAR: Keeping Calm With First Amendment Audits
DESCRIPTION:POST #25045 \nIn 1991\, George Holliday happened to have a video camera on hand to record an unarmed suspect\, Rodney King\, being violently beaten by the Los Angeles Police Department. The video captured by Holliday has been broadcast globally and seen millions of times. Today\, nearly every person has a video camera at all times in the form of a mobile phone. \nAfter high-profile police encounters in New York\, Baltimore and Ferguson\, Missouri\, citizen activists are filming encounters between police and suspects. First Amendment auditors claim the right to film public employees going about their business in public buildings. For example\, auditors now arrive at government buildings in groups to wander around\, filming and interfering with workers and residents. \nIt is clearly established that video recording of police encounters is a form of speech protected by the First Amendment. However\, the First Amendment is not absolute. The Supreme Court has recognized that there are certain places in which the government can limit speech. This 90-Minutes presentation covers those certain places where the government may limit access and recording. \nTopics Include:\n• Criteria for Imposing Restrictions;\n• Implementing a Policy Regarding Filming; and\n• Practical Response to Handling Encounters. \nPOST Credit:\n1-Hour Legal Studies\n1-Hour Technical Studies \nCost: FREE \nAfter registering\, you will receive a confirmation email containing information about joining the webinar. \n\nView System Requirements \n\n  \nREGISTER FOR WEBINAR\n 
URL:https://mosheriffs.com/event/webinar-keeping-calm-with-first-amendment-audits/
CATEGORIES:Courts,Officer Safety & Wellness,Training,Webinars
ATTACH;FMTTYPE=image/jpeg:https://mosheriffs.com/wp-content/uploads/2023/11/MSA-Header-Keeping-Calm-With-First-Amendment-Audits.jpg
ORGANIZER;CN="Jeanne Merritt":MAILTO:jeanne@mosheriffs.com
END:VEVENT
END:VCALENDAR