BEGIN:VCALENDAR
VERSION:2.0
PRODID:-//Missouri Sheriffs&#039; Association - ECPv6.15.20//NONSGML v1.0//EN
CALSCALE:GREGORIAN
METHOD:PUBLISH
X-ORIGINAL-URL:https://mosheriffs.com
X-WR-CALDESC:Events for Missouri Sheriffs&#039; Association
REFRESH-INTERVAL;VALUE=DURATION:PT1H
X-Robots-Tag:noindex
X-PUBLISHED-TTL:PT1H
BEGIN:VTIMEZONE
TZID:America/Chicago
BEGIN:DAYLIGHT
TZOFFSETFROM:-0600
TZOFFSETTO:-0500
TZNAME:CDT
DTSTART:20230312T080000
END:DAYLIGHT
BEGIN:STANDARD
TZOFFSETFROM:-0500
TZOFFSETTO:-0600
TZNAME:CST
DTSTART:20231105T070000
END:STANDARD
BEGIN:DAYLIGHT
TZOFFSETFROM:-0600
TZOFFSETTO:-0500
TZNAME:CDT
DTSTART:20240310T080000
END:DAYLIGHT
BEGIN:STANDARD
TZOFFSETFROM:-0500
TZOFFSETTO:-0600
TZNAME:CST
DTSTART:20241103T070000
END:STANDARD
BEGIN:DAYLIGHT
TZOFFSETFROM:-0600
TZOFFSETTO:-0500
TZNAME:CDT
DTSTART:20250309T080000
END:DAYLIGHT
BEGIN:STANDARD
TZOFFSETFROM:-0500
TZOFFSETTO:-0600
TZNAME:CST
DTSTART:20251102T070000
END:STANDARD
END:VTIMEZONE
BEGIN:VEVENT
DTSTART;TZID=America/Chicago:20240905T080000
DTEND;TZID=America/Chicago:20240905T090000
DTSTAMP:20260420T124252
CREATED:20231116T024320Z
LAST-MODIFIED:20231116T024320Z
UID:10000108-1725523200-1725526800@mosheriffs.com
SUMMARY:WEBINAR: Sexual Harassment Awareness & Prevention
DESCRIPTION:POST #21238 \n  \nSexual harassment in the workplace is not always easy to objectively identify. The difference between friendliness and inappropriateness can mean different things to different people. Because sexual attraction can play a role in the day-to-day social exchange between employees\, “the distinction between invited and uninvited-but-welcome\, offensive-but-tolerated\, and flatly rejected” sexual advances may be difficult to discern. This 90 minute session offers the participant information to help identify and prevent unlawful harassment. \nTOPICS INCLUDE:\n• Defining Sexual Harassment & Identifying the Different Types;\n• Warning Signs of Sexual Harassment;\n• Preventing Sexual Harassment;\n• How to tell if a coworker is being sexually harassed at work and what you can do about it; and\n• Behavior to Look for in the Harasser. \nCOST: Free \nPOST CLEE CREDIT: 1.5 hours Technical Studies \nAfter registering\, you will receive a confirmation email containing information about joining the webinar.\n \nView System Requirements \n  \nREGISTER FOR WEBINAR
URL:https://mosheriffs.com/event/webinar-sexual-harassment-awareness-prevention/
CATEGORIES:Criminal Investigations,Training,Webinars
ATTACH;FMTTYPE=image/jpeg:https://mosheriffs.com/wp-content/uploads/2023/11/MSA-Header-Sexual-Harassment-Awareness-Prevention.jpg
ORGANIZER;CN="Jeanne Merritt":MAILTO:jeanne@mosheriffs.com
END:VEVENT
END:VCALENDAR