BEGIN:VCALENDAR
VERSION:2.0
PRODID:-//Missouri Sheriffs&#039; Association - ECPv6.15.20//NONSGML v1.0//EN
CALSCALE:GREGORIAN
METHOD:PUBLISH
X-WR-CALNAME:Missouri Sheriffs&#039; Association
X-ORIGINAL-URL:https://mosheriffs.com
X-WR-CALDESC:Events for Missouri Sheriffs&#039; Association
REFRESH-INTERVAL;VALUE=DURATION:PT1H
X-Robots-Tag:noindex
X-PUBLISHED-TTL:PT1H
BEGIN:VTIMEZONE
TZID:America/Chicago
BEGIN:DAYLIGHT
TZOFFSETFROM:-0600
TZOFFSETTO:-0500
TZNAME:CDT
DTSTART:20220313T080000
END:DAYLIGHT
BEGIN:STANDARD
TZOFFSETFROM:-0500
TZOFFSETTO:-0600
TZNAME:CST
DTSTART:20221106T070000
END:STANDARD
BEGIN:DAYLIGHT
TZOFFSETFROM:-0600
TZOFFSETTO:-0500
TZNAME:CDT
DTSTART:20230312T080000
END:DAYLIGHT
BEGIN:STANDARD
TZOFFSETFROM:-0500
TZOFFSETTO:-0600
TZNAME:CST
DTSTART:20231105T070000
END:STANDARD
BEGIN:DAYLIGHT
TZOFFSETFROM:-0600
TZOFFSETTO:-0500
TZNAME:CDT
DTSTART:20240310T080000
END:DAYLIGHT
BEGIN:STANDARD
TZOFFSETFROM:-0500
TZOFFSETTO:-0600
TZNAME:CST
DTSTART:20241103T070000
END:STANDARD
END:VTIMEZONE
BEGIN:VEVENT
DTSTART;TZID=America/Chicago:20231026T080000
DTEND;TZID=America/Chicago:20231026T100000
DTSTAMP:20260419T093401
CREATED:20230921T232827Z
LAST-MODIFIED:20230921T233549Z
UID:10000092-1698307200-1698314400@mosheriffs.com
SUMMARY:WEBINAR: Fentanyl Facts – Are 1st Responders Really in Danger From Exposure?
DESCRIPTION:POST #25984  \nDespite numerous studies and medical publications stating the risk of clinically significant exposure is extremely low\, the perception remains that emergency responders will overdose and die if they encounter fentanyl. In fact\, in a 2020 survey\, 80% of first responders said they believed “briefly touching fentanyl could be deadly.” This presentation is designed to dispel myths surrounding emergency responder exposure and provide participants with information necessary to make informed decisions about their safety. \nTopics Include\n• Common forms of fentanyl.\n• Where and how legal/illegal fentanyl is manufactured.\n• Types of fentanyl first responders are likely to encounter.\n• The “Nocebo” effect.\n• Signs and symptoms of an overdose.\n• How to reduce possible fentanyl exposure.\n• Steps to take if exposure is suspected or has occurred. \nPOST Credit: 2-Hours Technical Studies\nCOST: Free \nAfter registering\, you will receive a confirmation email containing information about joining the webinar. \nView System Requirements \n  \nREGISTER
URL:https://mosheriffs.com/event/fentanyl-facts-are-1st-responders-really-in-danger-from-exposure/
LOCATION:Online Webinar
CATEGORIES:Training,Webinars
ATTACH;FMTTYPE=image/jpeg:https://mosheriffs.com/wp-content/uploads/2023/09/Fentanyl-Facts-Cover-Slide-scaled.jpg
ORGANIZER;CN="Jeanne Merritt":MAILTO:jeanne@mosheriffs.com
END:VEVENT
BEGIN:VEVENT
DTSTART;TZID=America/Chicago:20231012T080000
DTEND;TZID=America/Chicago:20231012T100000
DTSTAMP:20260419T093401
CREATED:20230921T193408Z
LAST-MODIFIED:20230921T233430Z
UID:10000091-1697097600-1697104800@mosheriffs.com
SUMMARY:WEBINAR: 2023 Legal Update
DESCRIPTION:POST #25966 \nThis online course begins with a discussion of changes made to Missouri Revised Statutes by the various House and Senate Bills and Resolutions that came out of the 102nd Legislative General Session\, First Regular Session 2023 and were signed by the Governor. The course finishes with a discussion on recent court decisions and holdings from the Missouri Supreme Court\, U.S. 8th Circuit Court of Appeals\, and the Missouri Appellant Courts during the 2021 to 2023 term (October 2022 through July 2023). \nTopics Include: \n\nStealing\nFirearms in Schools\nProperty Damage in The First Degree\nSiddens Bening Hands Free Law\nDisciplinary Procedures for Peace Officers\nInterference With Transportation of Livestock\nFirst Responders Administering Naloxone\n\nPOST Credit: 2-Hours Legal Studies\nCost: FREE \nAfter registering\, you will receive a confirmation email containing information about joining the webinar. \nView System Requirements \n  \nREGISTER
URL:https://mosheriffs.com/event/2023-legal-update-webinar/
LOCATION:Online Webinar
CATEGORIES:Courts,Training,Webinars
ATTACH;FMTTYPE=image/jpeg:https://mosheriffs.com/wp-content/uploads/2023/09/Lesson-Plan-PowerPoint-Cover-Slide.jpg
ORGANIZER;CN="Jeanne Merritt":MAILTO:jeanne@mosheriffs.com
END:VEVENT
END:VCALENDAR