BEGIN:VCALENDAR
VERSION:2.0
PRODID:-//Missouri Sheriffs&#039; Association - ECPv6.15.20//NONSGML v1.0//EN
CALSCALE:GREGORIAN
METHOD:PUBLISH
X-ORIGINAL-URL:https://mosheriffs.com
X-WR-CALDESC:Events for Missouri Sheriffs&#039; Association
REFRESH-INTERVAL;VALUE=DURATION:PT1H
X-Robots-Tag:noindex
X-PUBLISHED-TTL:PT1H
BEGIN:VTIMEZONE
TZID:America/Chicago
BEGIN:DAYLIGHT
TZOFFSETFROM:-0600
TZOFFSETTO:-0500
TZNAME:CDT
DTSTART:20230312T080000
END:DAYLIGHT
BEGIN:STANDARD
TZOFFSETFROM:-0500
TZOFFSETTO:-0600
TZNAME:CST
DTSTART:20231105T070000
END:STANDARD
BEGIN:DAYLIGHT
TZOFFSETFROM:-0600
TZOFFSETTO:-0500
TZNAME:CDT
DTSTART:20240310T080000
END:DAYLIGHT
BEGIN:STANDARD
TZOFFSETFROM:-0500
TZOFFSETTO:-0600
TZNAME:CST
DTSTART:20241103T070000
END:STANDARD
BEGIN:DAYLIGHT
TZOFFSETFROM:-0600
TZOFFSETTO:-0500
TZNAME:CDT
DTSTART:20250309T080000
END:DAYLIGHT
BEGIN:STANDARD
TZOFFSETFROM:-0500
TZOFFSETTO:-0600
TZNAME:CST
DTSTART:20251102T070000
END:STANDARD
END:VTIMEZONE
BEGIN:VEVENT
DTSTART;TZID=America/Chicago:20240125T020000
DTEND;TZID=America/Chicago:20240126T110000
DTSTAMP:20260419T120631
CREATED:20231221T001710Z
LAST-MODIFIED:20231221T002333Z
UID:10000128-1706148000-1706266800@mosheriffs.com
SUMMARY:Fundamentals of Court Security\, Livingston County
DESCRIPTION:POST #18951 \nJanuary 25 & 26\, 2024\n8:00 a.m. – 5:00 p.m. \n“American courthouses come in a myriad of designs\, from centuries-old stone fortresses to modern-day\, multi-floor monolithic towers\, from the one-room council chambers to the abstract designs of the creative architect. No matter what the shape\, size\, or condition\, the courthouse serves only one purpose\, the assurance that justice and the judicial process is preserved and protected.” – John E. Zaruba\n\nThis 16-hour course is designed to provide participants with a basic understanding of the fundamentals associated with providing a safe and secure environment for conducting court business\, as well as seeing to the safety of all who pass through the courthouse doors. Whether you have been working the courthouse for years or have just been assigned to the position\, this course has plenty to offer.\n  \nTOPICS INCLUDE\n\nLegal Issues\nAuthority of the Court Bailiff/Marshal\nRestricting Access to the Court Facilities\nSearches of Person\, Property and Vehicles\nCritical Security Issues\nAccess to the Courthouse\nSecurity Screening & Equipment\nPrisoner Access & Control\nMedia Access & Control\nHigh Risk/High Profile Trials\nNon-Exhibit Weapons of Opportunity\nJury Procedures\nBomb Threat Management\n\nCost includes manual\, study material and CLEE credit. Students are responsible for all lodging\, meals\, and transportation expenses. \n  \nPOST CLEE CREDIT\n4 Hours Legal Studies\n4 Hours Interpersonal Perspectives\n8 Hours Technical Studies \n\n\nDEADLINE: January 15\, 2024 \n\n*No refund for class if not attended. 50% refund if canceled 48 hours before class starts.\n\n\nDOWNLOAD PDF
URL:https://mosheriffs.com/event/fundamentals-of-court-security-livingston-county/
LOCATION:Chillicothe Department of Emergency Services\, 700 Second Street\, Chillicothe\, 64601\, United States
CATEGORIES:Courts,Officer Safety & Wellness,Training
ATTACH;FMTTYPE=image/jpeg:https://mosheriffs.com/wp-content/uploads/2023/12/MSA-Header-Fundamentals-of-Court-Security.jpg
ORGANIZER;CN="Jeanne Merritt":MAILTO:jeanne@mosheriffs.com
END:VEVENT
END:VCALENDAR