BEGIN:VCALENDAR
VERSION:2.0
PRODID:-//Missouri Sheriffs&#039; Association - ECPv6.15.20//NONSGML v1.0//EN
CALSCALE:GREGORIAN
METHOD:PUBLISH
X-ORIGINAL-URL:https://mosheriffs.com
X-WR-CALDESC:Events for Missouri Sheriffs&#039; Association
REFRESH-INTERVAL;VALUE=DURATION:PT1H
X-Robots-Tag:noindex
X-PUBLISHED-TTL:PT1H
BEGIN:VTIMEZONE
TZID:America/Chicago
BEGIN:DAYLIGHT
TZOFFSETFROM:-0600
TZOFFSETTO:-0500
TZNAME:CDT
DTSTART:20220313T080000
END:DAYLIGHT
BEGIN:STANDARD
TZOFFSETFROM:-0500
TZOFFSETTO:-0600
TZNAME:CST
DTSTART:20221106T070000
END:STANDARD
BEGIN:DAYLIGHT
TZOFFSETFROM:-0600
TZOFFSETTO:-0500
TZNAME:CDT
DTSTART:20230312T080000
END:DAYLIGHT
BEGIN:STANDARD
TZOFFSETFROM:-0500
TZOFFSETTO:-0600
TZNAME:CST
DTSTART:20231105T070000
END:STANDARD
BEGIN:DAYLIGHT
TZOFFSETFROM:-0600
TZOFFSETTO:-0500
TZNAME:CDT
DTSTART:20240310T080000
END:DAYLIGHT
BEGIN:STANDARD
TZOFFSETFROM:-0500
TZOFFSETTO:-0600
TZNAME:CST
DTSTART:20241103T070000
END:STANDARD
END:VTIMEZONE
BEGIN:VEVENT
DTSTART;TZID=America/Chicago:20231010T030000
DTEND;TZID=America/Chicago:20231019T120000
DTSTAMP:20260419T103745
CREATED:20230906T202736Z
LAST-MODIFIED:20230926T232548Z
UID:10000090-1696906800-1697716800@mosheriffs.com
SUMMARY:48-Hour Jail Officer Academy\, Montgomery County
DESCRIPTION:October 10\, 11\, 12\, 17\, 18 and 19\, 2023\n8:00 am – 5:00 pm \nPOST #24790 \nThis 48-hour course is designed to prepare the participant for working in a jail or detention center. It focuses on developing knowledge and skills to better equip an individual for maintaining the safety and security of a facility\, as they ensure the incarcerated individuals’ needs are met in a humane and legal manner. It is a MUST for individuals just beginning a career working in a jail and a friendly refresher for those who have been working in a jail for some time. \nTOPICS INCLUDE:\n• Working in Corrections\n• Health & Safety Issues\n• Legal Issues\n• Intake\, Booking & Release\n• Daily Operations of a Jail Officer\n• Controlling Resistive & Manipulative Behavior\n• Use-of-Force in Jails \nPREREQUISITES:\nApplicants must possess the following competencies:\n• Adaptability\n• Conscientiousness\n• Judgment/ Problem Solving\n• Critical Thinking\n• Learning-Memory-Recall\n• Organization Skills \nDRESS CODE & SUPPLIES:\n• Attendees are expected to dress in their agency uniform or in business casual attire.\n• Attendees must bring a pen or pencil and notetaking material; and a laptop\, tablet\, or smart phone capable of accessing the internet. \nREQUIREMENTS FOR SUCCESSFUL COMPLETION:\nA certificate of academy completion is awarded to all attendees who have a 100% attendance rating and pass a comprehensive electronic exam with a minimum score of 80% correct. \nNOTE: Cost includes manuals\, study material and CLEE credit. Students are responsible for all lodging\, meals\, and transportation expenses. \nPOST CLEE CREDITS: 46\n• 5 Hours Interpersonal\n• 1 Hour Implicit Bias\n• 4 Hours De-Escalation\n• 14 Hours Legal Studies\n• 22 Hours Technical Studies \nFOR MORE INFORMATION CONTACT:\nJeanne Merritt at 573-529-6900 or email her at jeanne@mosheriffs.com \n  \nDOWNLOAD PDF
URL:https://mosheriffs.com/event/48-hour-jail-officer-academy-montgomery-county/
LOCATION:Montgomery County Ambulance Base\, 603 Stoddard Memorial Dr\, New Florence\, MO\, 63363\, United States
CATEGORIES:Academy,Jail,Training
ATTACH;FMTTYPE=image/jpeg:https://mosheriffs.com/wp-content/uploads/2023/01/MSA-Header-48-Hour-Jail-Officer-Academy.jpg
ORGANIZER;CN="Jeanne Merritt":MAILTO:jeanne@mosheriffs.com
END:VEVENT
END:VCALENDAR