BEGIN:VCALENDAR
VERSION:2.0
PRODID:-//Missouri Sheriffs&#039; Association - ECPv6.15.20//NONSGML v1.0//EN
CALSCALE:GREGORIAN
METHOD:PUBLISH
X-ORIGINAL-URL:https://mosheriffs.com
X-WR-CALDESC:Events for Missouri Sheriffs&#039; Association
REFRESH-INTERVAL;VALUE=DURATION:PT1H
X-Robots-Tag:noindex
X-PUBLISHED-TTL:PT1H
BEGIN:VTIMEZONE
TZID:America/Chicago
BEGIN:DAYLIGHT
TZOFFSETFROM:-0600
TZOFFSETTO:-0500
TZNAME:CDT
DTSTART:20220313T080000
END:DAYLIGHT
BEGIN:STANDARD
TZOFFSETFROM:-0500
TZOFFSETTO:-0600
TZNAME:CST
DTSTART:20221106T070000
END:STANDARD
BEGIN:DAYLIGHT
TZOFFSETFROM:-0600
TZOFFSETTO:-0500
TZNAME:CDT
DTSTART:20230312T080000
END:DAYLIGHT
BEGIN:STANDARD
TZOFFSETFROM:-0500
TZOFFSETTO:-0600
TZNAME:CST
DTSTART:20231105T070000
END:STANDARD
BEGIN:DAYLIGHT
TZOFFSETFROM:-0600
TZOFFSETTO:-0500
TZNAME:CDT
DTSTART:20240310T080000
END:DAYLIGHT
BEGIN:STANDARD
TZOFFSETFROM:-0500
TZOFFSETTO:-0600
TZNAME:CST
DTSTART:20241103T070000
END:STANDARD
END:VTIMEZONE
BEGIN:VEVENT
DTSTART;TZID=America/Chicago:20230629T030000
DTEND;TZID=America/Chicago:20230629T070000
DTSTAMP:20260419T090011
CREATED:20230621T224955Z
LAST-MODIFIED:20230624T184541Z
UID:10000071-1688007600-1688022000@mosheriffs.com
SUMMARY:Use of Force Decision Making\, St. James
DESCRIPTION:POST# 21621 \nLOCATION\n1320 Nelson Hart Rd.\nSt. James. MO \nCOURSE DISCRIPTION\nThis 4-hour course begins with a look at how one of the most important aspects of life is “decision-making” and how whatever choice we decide on today can impact how our life will play out in the future. It provides participants with a better understanding of the decision-making process\, things that can hinder the effectiveness of the decision processes\, along with providing the knowledge required to may good use-of-force decision. \nWho Should Attend\n• Patrol Officers\n• Corrections Staff\n• Administrative Support Staff\n• EMS Personnel & 1st Responders \nTopics Covered\n• Police Decision-Making\n• Intuitive vs. Analytical Decision Making\n• Decision Fatigue\n• Discretionary vs. Non-Discretionary Time\n• Conditions of De-escalation\n• Legal Issues Surrounding the Use-of-Force\n• Use-of-Force Continuums & Application of Force \nPOST CLEE CREDIT\n2 Hours Legal Studies\n*Includes De-escalation Credit\n2 Hours Technical Studies\n* Includes Implicit Bias Credit \nDOWNLOAD PDF
URL:https://mosheriffs.com/event/use-of-force-decision-making-st-james-mo-june-2023/
LOCATION:St. James\, 1320 Nelson Hart Rd\, St. James\, MO\, 65559\, United States
CATEGORIES:Jail,Management,Officer Safety & Wellness,Patrol,Training
ATTACH;FMTTYPE=image/jpeg:https://mosheriffs.com/wp-content/uploads/2023/01/MSA-Header-Use-of-Force-Decision-Making.jpg
ORGANIZER;CN="Gina Kauffman":MAILTO:gina@mosheriffs.com
END:VEVENT
END:VCALENDAR