BEGIN:VCALENDAR
VERSION:2.0
PRODID:-//Missouri Sheriffs&#039; Association - ECPv6.15.20//NONSGML v1.0//EN
CALSCALE:GREGORIAN
METHOD:PUBLISH
X-ORIGINAL-URL:https://mosheriffs.com
X-WR-CALDESC:Events for Missouri Sheriffs&#039; Association
REFRESH-INTERVAL;VALUE=DURATION:PT1H
X-Robots-Tag:noindex
X-PUBLISHED-TTL:PT1H
BEGIN:VTIMEZONE
TZID:America/Chicago
BEGIN:DAYLIGHT
TZOFFSETFROM:-0600
TZOFFSETTO:-0500
TZNAME:CDT
DTSTART:20220313T080000
END:DAYLIGHT
BEGIN:STANDARD
TZOFFSETFROM:-0500
TZOFFSETTO:-0600
TZNAME:CST
DTSTART:20221106T070000
END:STANDARD
BEGIN:DAYLIGHT
TZOFFSETFROM:-0600
TZOFFSETTO:-0500
TZNAME:CDT
DTSTART:20230312T080000
END:DAYLIGHT
BEGIN:STANDARD
TZOFFSETFROM:-0500
TZOFFSETTO:-0600
TZNAME:CST
DTSTART:20231105T070000
END:STANDARD
BEGIN:DAYLIGHT
TZOFFSETFROM:-0600
TZOFFSETTO:-0500
TZNAME:CDT
DTSTART:20240310T080000
END:DAYLIGHT
BEGIN:STANDARD
TZOFFSETFROM:-0500
TZOFFSETTO:-0600
TZNAME:CST
DTSTART:20241103T070000
END:STANDARD
END:VTIMEZONE
BEGIN:VEVENT
DTSTART;TZID=America/Chicago:20230614T080000
DTEND;TZID=America/Chicago:20230614T110000
DTSTAMP:20260419T141246
CREATED:20230531T022329Z
LAST-MODIFIED:20230613T230649Z
UID:10000068-1686729600-1686740400@mosheriffs.com
SUMMARY:Legal Considerations for Jail Staff - Afternoon Session\, Stone County
DESCRIPTION:POST# 25348 \nDate and Time\nJune 14\, 2023 \nTwo Sessons\nAfternoon Session 1:00pm to 4:00pm \nCourse Description\nThere are many different state statutes\, local court rules and Missouri Supreme Court Rules that directly or indirectly affect jail staff\, as well as jail operations. This scenario and video based classroom presentation covers common statutes and rules affecting operations and staff. It also covers case law relating to the duty to attend to the serious medical needs of inmates and the legal duty to intervene to prevent inmates from self-harm\, as well as harm at the hands of another\, including jail staff. \nWho Should Attend\nAlthough geared toward custody staff\, any experienced law enforcement officer\, firefighter\, or EMS personnel\, as well as any professional\, will benefit from this course. \nTopics Include\n•RSMo Chapter 221\n•Fit for Confinement Considerations\n•Inmate Serious Medical Needs•Deliberate Indifference to Inmate Health & Safety\n•The Duty to Intervene•Elements of a Fail to Intervene Lawsuit\n•The 8th Amendment Cruel & Unusual Punishment \nPOST CLEE CREDIT\n3 Hours Legal Studies \nDOWNLOAD FLYER HERE
URL:https://mosheriffs.com/event/legal-considerations-for-jail-staff-afternoon-session-stone-county/
LOCATION:Stone County Sheriff’s Office\, 110 S. Maple Street\, Galena\, MO\, 65737\, United States
CATEGORIES:Jail,Training
ATTACH;FMTTYPE=image/jpeg:https://mosheriffs.com/wp-content/uploads/2023/05/MSA-Header-Legal-Considerations-for-Jail-Staff-Course-2.jpg
ORGANIZER;CN="Gina Kauffman":MAILTO:gina@mosheriffs.com
END:VEVENT
BEGIN:VEVENT
DTSTART;TZID=America/Chicago:20230614T040000
DTEND;TZID=America/Chicago:20230614T070000
DTSTAMP:20260419T141246
CREATED:20230531T021837Z
LAST-MODIFIED:20230613T230315Z
UID:10000067-1686715200-1686726000@mosheriffs.com
SUMMARY:Legal Considerations for Jail Staff - Morning Session\, Stone County
DESCRIPTION:POST# 25348 \nDate and Time\nJune 14\, 2023 \nTwo Sessons\nMorning Session 9:00am to 12:00pm \nCourse Description\nThere are many different state statutes\, local court rules and Missouri Supreme Court Rules that directly or indirectly affect jail staff\, as well as jail operations. This scenario and video based classroom presentation covers common statutes and rules affecting operations and staff. It also covers case law relating to the duty to attend to the serious medical needs of inmates and the legal duty to intervene to prevent inmates from self-harm\, as well as harm at the hands of another\, including jail staff. \nWho Should Attend\nAlthough geared toward custody staff\, any experienced law enforcement officer\, firefighter\, or EMS personnel\, as well as any professional\, will benefit from this course. \nTopics Include\n•RSMo Chapter 221\n•Fit for Confinement Considerations\n•Inmate Serious Medical Needs•Deliberate Indifference to Inmate Health & Safety\n•The Duty to Intervene•Elements of a Fail to Intervene Lawsuit\n•The 8th Amendment Cruel & Unusual Punishment \nPOST CLEE CREDIT\n3 Hours Legal Studies \nDOWNLOAD FLYER HERE
URL:https://mosheriffs.com/event/legal-considerations-for-jail-staff-stone-county-morning-session-june-2023/
LOCATION:Stone County Sheriff’s Office\, 110 S. Maple Street\, Galena\, MO\, 65737\, United States
CATEGORIES:Jail,Training
ATTACH;FMTTYPE=image/jpeg:https://mosheriffs.com/wp-content/uploads/2023/05/MSA-Header-Legal-Considerations-for-Jail-Staff-Course.jpg
ORGANIZER;CN="Gina Kauffman":MAILTO:gina@mosheriffs.com
END:VEVENT
END:VCALENDAR