BEGIN:VCALENDAR
VERSION:2.0
PRODID:-//Missouri Sheriffs&#039; Association - ECPv6.15.20//NONSGML v1.0//EN
CALSCALE:GREGORIAN
METHOD:PUBLISH
X-WR-CALNAME:Missouri Sheriffs&#039; Association
X-ORIGINAL-URL:https://mosheriffs.com
X-WR-CALDESC:Events for Missouri Sheriffs&#039; Association
REFRESH-INTERVAL;VALUE=DURATION:PT1H
X-Robots-Tag:noindex
X-PUBLISHED-TTL:PT1H
BEGIN:VTIMEZONE
TZID:America/Chicago
BEGIN:DAYLIGHT
TZOFFSETFROM:-0600
TZOFFSETTO:-0500
TZNAME:CDT
DTSTART:20220313T080000
END:DAYLIGHT
BEGIN:STANDARD
TZOFFSETFROM:-0500
TZOFFSETTO:-0600
TZNAME:CST
DTSTART:20221106T070000
END:STANDARD
BEGIN:DAYLIGHT
TZOFFSETFROM:-0600
TZOFFSETTO:-0500
TZNAME:CDT
DTSTART:20230312T080000
END:DAYLIGHT
BEGIN:STANDARD
TZOFFSETFROM:-0500
TZOFFSETTO:-0600
TZNAME:CST
DTSTART:20231105T070000
END:STANDARD
BEGIN:DAYLIGHT
TZOFFSETFROM:-0600
TZOFFSETTO:-0500
TZNAME:CDT
DTSTART:20240310T080000
END:DAYLIGHT
BEGIN:STANDARD
TZOFFSETFROM:-0500
TZOFFSETTO:-0600
TZNAME:CST
DTSTART:20241103T070000
END:STANDARD
END:VTIMEZONE
BEGIN:VEVENT
DTSTART;TZID=America/Chicago:20230524T030000
DTEND;TZID=America/Chicago:20230525T120000
DTSTAMP:20260419T121620
CREATED:20230322T220157Z
LAST-MODIFIED:20230322T220157Z
UID:10000052-1684897200-1685016000@mosheriffs.com
SUMMARY:Leadership and Supervision in Today’s World\, Warrensburg
DESCRIPTION:POST# 21279 \nMost people equate leadership with a specific position or job title. But you need more then a title on the door to have followers. \nTrue leadership is the ability to influence people to achieve a better result for an organization or group. The most effective leaders have a strong sense of self; they understand the qualities that make other people want to follow them\, and they know how to adjust those qualities when circumstances require them to do so. \nWhether you have been in a leadership position for awhile\, new to the position or simply aspiring to influence others\, this course is for you. \nLearn the importance of knowing your strengths and limitations; of effectively communicating a positive\, realistic vision; as well as the importance of motivating and inspiring followers to reach their potential. \nThis 2-day\, fast paced course prepares you to be the new type of leader that today’s workplace demands. \n  \nTopics Include: \n\nQualities and Skill Building for Supervisors – 2 Hours\nLeadership Development Motivation and Retention – 2 Hours\nBreaking the Communication Walls – 2 Hours\nCompetencies of the Correctional Leader – 2 Hours\nDefining a Toxic Employee – 4 Hours\nUnderstanding Styles and Personalities – 2 Hours\n“Leadership” Without A Title- 2 Hours\n\nDOWNLOAD PDF
URL:https://mosheriffs.com/event/leadership-and-supervision-in-todays-world-warrensburg-may-2023/
LOCATION:Warrensburg Justice Center (Basement)\, 101 West Market\, Warrensburg\, MO\, United States
CATEGORIES:Management,Training
ATTACH;FMTTYPE=image/jpeg:https://mosheriffs.com/wp-content/uploads/2022/12/MSA-Header-Leadership-and-Supervision-in-Todays-World.jpg
ORGANIZER;CN="Gina Kauffman":MAILTO:gina@mosheriffs.com
END:VEVENT
END:VCALENDAR